BEGIN:VCALENDAR
VERSION:2.0
PRODID:GlueUp
CALSCALE:GREGORIAN
BEGIN:VTIMEZONE
TZID:UTC
BEGIN:STANDARD
DTSTART:19700101T000000
TZOFFSETFROM:+0000
TZOFFSETTO:+0000
TZNAME:UTC
END:STANDARD
END:VTIMEZONE
BEGIN:VEVENT
TZ:+00
ORGANIZER;CN=Cherry Huang:MAILTO:cherry.huang@swisscham.org
UID:50233-1776691281@https://swisscham.glueup.cn
DTSTAMP:20260420T132121Z
DTSTART:20260423T080000Z
DTEND:20260423T093000Z
SUMMARY:[线下线上HR 论坛] 员工福利保险和常见问题
DESCRIPTION:SwissCham Shanghai发布活动[线下线上HR 论坛] 员工福利保险和常见问题\n\n2026年04月23日（16:00 - 17:30）(GMT+8)\n\n更多信息，访问https://swisscham.glueup.cn/my/events/50233
LOCATION:SwissCham Office - 中国Shanghai4th Floor - Building 1 - No. 277 Wuxing Road - Xuhui District - 上海市徐汇区吴兴路277号吴界1号楼4楼
BEGIN:VALARM
TRIGGER:-PT48H
REPEAT:4
DURATION:PT30M
ACTION:DISPLAY
END:VALARM
END:VEVENT
END:VCALENDAR