BEGIN:VCALENDAR
VERSION:2.0
PRODID:GlueUp
CALSCALE:GREGORIAN
BEGIN:VTIMEZONE
TZID:UTC
BEGIN:STANDARD
DTSTART:19700101T000000
TZOFFSETFROM:+0000
TZOFFSETTO:+0000
TZNAME:UTC
END:STANDARD
END:VTIMEZONE
BEGIN:VEVENT
TZ:+00
ORGANIZER;CN=Guillaume Joyet:MAILTO:guillaume.joyet@swisscham.org
UID:49509-1776779114@https://swisscham.glueup.cn
DTSTAMP:20260421T134514Z
DTSTART:20260331T090000Z
DTEND:20260331T101500Z
SUMMARY:SwissCham National (NAGA) Annual General Assembly
DESCRIPTION:SwissCham National (NAGA) Annual General Assembly by SwissCham Beijing\n\nMar 31, 2026 (5:00 PM - 6:15 PM)(GMT+8)\n\nFor more information, click here: https://swisscham.glueup.cn/my/events/49509
LOCATION:
BEGIN:VALARM
TRIGGER:-PT48H
REPEAT:4
DURATION:PT30M
ACTION:DISPLAY
END:VALARM
END:VEVENT
END:VCALENDAR