BEGIN:VCALENDAR
VERSION:2.0
PRODID:GlueUp
CALSCALE:GREGORIAN
BEGIN:VTIMEZONE
TZID:UTC
BEGIN:STANDARD
DTSTART:19700101T000000
TZOFFSETFROM:+0000
TZOFFSETTO:+0000
TZNAME:UTC
END:STANDARD
END:VTIMEZONE
BEGIN:VEVENT
TZ:+00
ORGANIZER;CN=Melissa LIU:MAILTO:melissa.liu@swisscham.org
UID:48608-1776727469@https://swisscham.glueup.cn
DTSTAMP:20260420T232429Z
DTSTART:20251030T103000Z
DTEND:20251030T130000Z
SUMMARY:Networking Dinner
DESCRIPTION:Networking Dinner by SwissCham Southwest China.\n\nOct 30, 2025 (6:30 PM - 9:00 PM)(GMT+8)\n\nFor more information, click here: https://swisscham.glueup.cn/my/events/48608
LOCATION:Mesos餐吧 - 四川省成都市锦江区宏济上路56号潮玩街区mesos餐吧 Chengdu - China
BEGIN:VALARM
TRIGGER:-PT48H
REPEAT:4
DURATION:PT30M
ACTION:DISPLAY
END:VALARM
END:VEVENT
END:VCALENDAR