BEGIN:VCALENDAR
VERSION:2.0
PRODID:GlueUp
CALSCALE:GREGORIAN
BEGIN:VTIMEZONE
TZID:UTC
BEGIN:STANDARD
DTSTART:19700101T000000
TZOFFSETFROM:+0000
TZOFFSETTO:+0000
TZNAME:UTC
END:STANDARD
END:VTIMEZONE
BEGIN:VEVENT
TZ:+00
ORGANIZER;CN=Beijing Members:MAILTO:beijing.members@swisscham.org
UID:45715-1776728164@https://swisscham.glueup.cn
DTSTAMP:20260420T233604Z
DTSTART:20241220T100000Z
DTEND:20241220T140000Z
SUMMARY:“Christmas in the Alps” Dinner  阿尔卑斯山圣诞晚餐
DESCRIPTION:“Christmas in the Alps” Dinner  阿尔卑斯山圣诞晚餐 by SwissCham Southwest China.\n\nDec 20, 2024 (6:00 PM - 10:00 PM)(GMT+8)\n\nFor more information, click here: https://swisscham.glueup.cn/my/events/45715
LOCATION:雪绒花 · 德式餐厅 - Edelweiss - No. 42 Tianxiang Binhe Road - Chengdu - Sichuan province - 四川省成都市天祥滨河路42号雪绒花 · 德式餐厅
BEGIN:VALARM
TRIGGER:-PT48H
REPEAT:4
DURATION:PT30M
ACTION:DISPLAY
END:VALARM
END:VEVENT
END:VCALENDAR