BEGIN:VCALENDAR
VERSION:2.0
PRODID:GlueUp
CALSCALE:GREGORIAN
BEGIN:VTIMEZONE
TZID:UTC
BEGIN:STANDARD
DTSTART:19700101T000000
TZOFFSETFROM:+0000
TZOFFSETTO:+0000
TZNAME:UTC
END:STANDARD
END:VTIMEZONE
BEGIN:VEVENT
TZ:+00
ORGANIZER;CN=Min Zhang:MAILTO:min.zhang@swisscham.org
UID:49992-1776721905@https://swisscham.glueup.cn
DTSTAMP:20260420T215145Z
DTSTART:20260416T103000Z
DTEND:20260416T130000Z
SUMMARY:2026 Spring InterChamber Social Mixer 2026春日绽放·跨商会社交酒会
DESCRIPTION:2026 Spring InterChamber Social Mixer 2026春日绽放·跨商会社交酒会 by SwissCham Southwest China.\n\nApr 16, 2026 (6:30 PM - 9:00 PM)(GMT+8)\n\nFor more information, click here: https://swisscham.glueup.cn/my/events/49992
LOCATION:249 Cafe, 7/F, HYATT CENTRIC THE RING CHENGDU 成都光环凯悦尚萃酒店7楼 249 Café - No.229 Tongyuan Street - Jiniiang District - Chengdu 成都市锦江区通源街229号 Chengdu - Sichuan - China
BEGIN:VALARM
TRIGGER:-PT48H
REPEAT:4
DURATION:PT30M
ACTION:DISPLAY
END:VALARM
END:VEVENT
END:VCALENDAR