BEGIN:VCALENDAR
VERSION:2.0
PRODID:GlueUp
CALSCALE:GREGORIAN
BEGIN:VTIMEZONE
TZID:UTC
BEGIN:STANDARD
DTSTART:19700101T000000
TZOFFSETFROM:+0000
TZOFFSETTO:+0000
TZNAME:UTC
END:STANDARD
END:VTIMEZONE
BEGIN:VEVENT
TZ:+00
ORGANIZER;CN=Melissa LIU:MAILTO:melissa.liu@swisscham.org
UID:48693-1776728248@https://swisscham.glueup.cn
DTSTAMP:20260420T233728Z
DTSTART:20251105T103000Z
DTEND:20251105T133000Z
SUMMARY:2025 Autumn Interchamber Mixer in Chongqing 2025秋季重庆跨商会联合酒会
DESCRIPTION:2025 Autumn Interchamber Mixer in Chongqing 2025秋季重庆跨商会联合酒会 by SwissCham Southwest China.\n\nNov 5, 2025 (6:30 PM - 9:30 PM)(GMT+8)\n\nFor more information, click here: https://swisscham.glueup.cn/my/events/48693
LOCATION:The Westin Chongging Liberation Square - 重庆解放碑威斯汀酒店51楼/Lounge 5l - The Westin Chongging Liberation Square 重庆 - China
BEGIN:VALARM
TRIGGER:-PT48H
REPEAT:4
DURATION:PT30M
ACTION:DISPLAY
END:VALARM
END:VEVENT
END:VCALENDAR